BEGIN:VCALENDAR
VERSION:2.0
PRODID:-//Polskie Stowarzyszenie Regatowe klasy Finn - ECPv4.9.11//NONSGML v1.0//EN
CALSCALE:GREGORIAN
METHOD:PUBLISH
X-WR-CALNAME:Polskie Stowarzyszenie Regatowe klasy Finn
X-ORIGINAL-URL:http://www.finnclass.pl
X-WR-CALDESC:Events for Polskie Stowarzyszenie Regatowe klasy Finn
BEGIN:VTIMEZONE
TZID:Europe/Warsaw
BEGIN:DAYLIGHT
TZOFFSETFROM:+0100
TZOFFSETTO:+0200
TZNAME:CEST
DTSTART:20180325T010000
END:DAYLIGHT
BEGIN:STANDARD
TZOFFSETFROM:+0200
TZOFFSETTO:+0100
TZNAME:CET
DTSTART:20181028T010000
END:STANDARD
END:VTIMEZONE
BEGIN:VEVENT
DTSTART;TZID=Europe/Warsaw:20181013T080000
DTEND;TZID=Europe/Warsaw:20181014T170000
DTSTAMP:20260419T173514
CREATED:20180301T205023Z
LAST-MODIFIED:20180301T205023Z
UID:2604-1539417600-1539536400@www.finnclass.pl
SUMMARY:Finał Pucharu Polski - Wolsztyn
DESCRIPTION:
URL:http://www.finnclass.pl/event/final-pucharu-polski-wolsztyn/
END:VEVENT
END:VCALENDAR