BEGIN:VCALENDAR
VERSION:2.0
PRODID:-//Polskie Stowarzyszenie Regatowe klasy Finn - ECPv4.9.11//NONSGML v1.0//EN
CALSCALE:GREGORIAN
METHOD:PUBLISH
X-WR-CALNAME:Polskie Stowarzyszenie Regatowe klasy Finn
X-ORIGINAL-URL:http://www.finnclass.pl
X-WR-CALDESC:Events for Polskie Stowarzyszenie Regatowe klasy Finn
BEGIN:VTIMEZONE
TZID:Europe/Warsaw
BEGIN:DAYLIGHT
TZOFFSETFROM:+0100
TZOFFSETTO:+0200
TZNAME:CEST
DTSTART:20220327T010000
END:DAYLIGHT
BEGIN:STANDARD
TZOFFSETFROM:+0200
TZOFFSETTO:+0100
TZNAME:CET
DTSTART:20221030T010000
END:STANDARD
END:VTIMEZONE
BEGIN:VEVENT
DTSTART;VALUE=DATE:20220507
DTEND;VALUE=DATE:20220509
DTSTAMP:20260419T144216
CREATED:20220428T185426Z
LAST-MODIFIED:20220502T205624Z
UID:5150-1651881600-1652054399@www.finnclass.pl
SUMMARY:I Puchar Bydgoskiego Klubu Żeglarskiego w klasie Finn
DESCRIPTION:
URL:http://www.finnclass.pl/event/i-puchar-bkz-w-klasie-finn/
LOCATION:Pieczyska
CATEGORIES:Liga Zalewu Koronowskiego 2022
END:VEVENT
END:VCALENDAR