BEGIN:VCALENDAR
VERSION:2.0
PRODID:-//Polskie Stowarzyszenie Regatowe klasy Finn - ECPv4.9.11//NONSGML v1.0//EN
CALSCALE:GREGORIAN
METHOD:PUBLISH
X-WR-CALNAME:Polskie Stowarzyszenie Regatowe klasy Finn
X-ORIGINAL-URL:http://www.finnclass.pl
X-WR-CALDESC:Events for Polskie Stowarzyszenie Regatowe klasy Finn
BEGIN:VTIMEZONE
TZID:Europe/Warsaw
BEGIN:DAYLIGHT
TZOFFSETFROM:+0100
TZOFFSETTO:+0200
TZNAME:CEST
DTSTART:20170326T010000
END:DAYLIGHT
BEGIN:STANDARD
TZOFFSETFROM:+0200
TZOFFSETTO:+0100
TZNAME:CET
DTSTART:20171029T010000
END:STANDARD
END:VTIMEZONE
BEGIN:VEVENT
DTSTART;TZID=Europe/Warsaw:20170622T080000
DTEND;TZID=Europe/Warsaw:20170625T170000
DTSTAMP:20260420T010606
CREATED:20161226T211021Z
LAST-MODIFIED:20161226T211021Z
UID:1510-1498118400-1498410000@www.finnclass.pl
SUMMARY:Kieler Woche
DESCRIPTION:Kieler Woche\, Niemcy\, 22-25.06.2017 \n
URL:http://www.finnclass.pl/event/kieler-woche/
LOCATION:Kilonia\, Niemcy
END:VEVENT
END:VCALENDAR