BEGIN:VCALENDAR
VERSION:2.0
PRODID:-//Polskie Stowarzyszenie Regatowe klasy Finn - ECPv4.9.11//NONSGML v1.0//EN
CALSCALE:GREGORIAN
METHOD:PUBLISH
X-WR-CALNAME:Polskie Stowarzyszenie Regatowe klasy Finn
X-ORIGINAL-URL:http://www.finnclass.pl
X-WR-CALDESC:Events for Polskie Stowarzyszenie Regatowe klasy Finn
BEGIN:VTIMEZONE
TZID:Europe/Warsaw
BEGIN:DAYLIGHT
TZOFFSETFROM:+0100
TZOFFSETTO:+0200
TZNAME:CEST
DTSTART:20180325T010000
END:DAYLIGHT
BEGIN:STANDARD
TZOFFSETFROM:+0200
TZOFFSETTO:+0100
TZNAME:CET
DTSTART:20181028T010000
END:STANDARD
END:VTIMEZONE
BEGIN:VEVENT
DTSTART;TZID=Europe/Warsaw:20180609T080000
DTEND;TZID=Europe/Warsaw:20180610T170000
DTSTAMP:20260419T204216
CREATED:20180301T203900Z
LAST-MODIFIED:20180301T203900Z
UID:2583-1528531200-1528650000@www.finnclass.pl
SUMMARY:Memoriał Mariana Jankowskiego - Poznań
DESCRIPTION:
URL:http://www.finnclass.pl/event/memorial-mariana-jankowskiego-poznan/
END:VEVENT
END:VCALENDAR