BEGIN:VCALENDAR
VERSION:2.0
PRODID:-//Polskie Stowarzyszenie Regatowe klasy Finn - ECPv4.9.11//NONSGML v1.0//EN
CALSCALE:GREGORIAN
METHOD:PUBLISH
X-WR-CALNAME:Polskie Stowarzyszenie Regatowe klasy Finn
X-ORIGINAL-URL:http://www.finnclass.pl
X-WR-CALDESC:Events for Polskie Stowarzyszenie Regatowe klasy Finn
BEGIN:VTIMEZONE
TZID:Europe/Warsaw
BEGIN:DAYLIGHT
TZOFFSETFROM:+0100
TZOFFSETTO:+0200
TZNAME:CEST
DTSTART:20160327T010000
END:DAYLIGHT
BEGIN:STANDARD
TZOFFSETFROM:+0200
TZOFFSETTO:+0100
TZNAME:CET
DTSTART:20161030T010000
END:STANDARD
END:VTIMEZONE
BEGIN:VEVENT
DTSTART;TZID=Europe/Warsaw:20160922T080000
DTEND;TZID=Europe/Warsaw:20160925T170000
DTSTAMP:20260420T040652
CREATED:20160830T085439Z
LAST-MODIFIED:20160830T085439Z
UID:1168-1474531200-1474822800@www.finnclass.pl
SUMMARY:Mistrzostwa Polski AOC
DESCRIPTION:Mistrzostwa Polski AOC Górki Zachodnie \nZawiadomienie : http://pya.org.pl/polski-zwiazek-zeglarski/page/mp-aoc/ \n
URL:http://www.finnclass.pl/event/mistrzostwa-polski-aoc/
END:VEVENT
END:VCALENDAR