BEGIN:VCALENDAR
VERSION:2.0
PRODID:-//Polskie Stowarzyszenie Regatowe klasy Finn - ECPv4.9.11//NONSGML v1.0//EN
CALSCALE:GREGORIAN
METHOD:PUBLISH
X-WR-CALNAME:Polskie Stowarzyszenie Regatowe klasy Finn
X-ORIGINAL-URL:http://www.finnclass.pl
X-WR-CALDESC:Events for Polskie Stowarzyszenie Regatowe klasy Finn
BEGIN:VTIMEZONE
TZID:Europe/Warsaw
BEGIN:DAYLIGHT
TZOFFSETFROM:+0100
TZOFFSETTO:+0200
TZNAME:CEST
DTSTART:20160327T010000
END:DAYLIGHT
BEGIN:STANDARD
TZOFFSETFROM:+0200
TZOFFSETTO:+0100
TZNAME:CET
DTSTART:20161030T010000
END:STANDARD
END:VTIMEZONE
BEGIN:VEVENT
DTSTART;TZID=Europe/Warsaw:20160703T080000
DTEND;TZID=Europe/Warsaw:20160709T170000
DTSTAMP:20260420T143243
CREATED:20160628T200005Z
LAST-MODIFIED:20160628T200036Z
UID:1025-1467532800-1468083600@www.finnclass.pl
SUMMARY:Mistrzostwa Świata Juniorów Dania
DESCRIPTION:Regaty odbędą się w dniach 3-9 lipca 2016 w Dani w miejscowości Aarhus. \nInformacje : http://www.sailing-aarhus.dk/finnjuniorworld2016/ \n
URL:http://www.finnclass.pl/event/mistrzostwa-swiata-juniorow-dania/
END:VEVENT
END:VCALENDAR