BEGIN:VCALENDAR
VERSION:2.0
PRODID:-//Polskie Stowarzyszenie Regatowe klasy Finn - ECPv4.9.11//NONSGML v1.0//EN
CALSCALE:GREGORIAN
METHOD:PUBLISH
X-WR-CALNAME:Polskie Stowarzyszenie Regatowe klasy Finn
X-ORIGINAL-URL:http://www.finnclass.pl
X-WR-CALDESC:Events for Polskie Stowarzyszenie Regatowe klasy Finn
BEGIN:VTIMEZONE
TZID:Europe/Warsaw
BEGIN:DAYLIGHT
TZOFFSETFROM:+0100
TZOFFSETTO:+0200
TZNAME:CEST
DTSTART:20170326T010000
END:DAYLIGHT
BEGIN:STANDARD
TZOFFSETFROM:+0200
TZOFFSETTO:+0100
TZNAME:CET
DTSTART:20171029T010000
END:STANDARD
END:VTIMEZONE
BEGIN:VEVENT
DTSTART;TZID=Europe/Warsaw:20171007T080000
DTEND;TZID=Europe/Warsaw:20171008T170000
DTSTAMP:20260419T220015
CREATED:20161226T104747Z
LAST-MODIFIED:20161226T104747Z
UID:1493-1507363200-1507482000@www.finnclass.pl
SUMMARY:Mistrzostwa Warszawy; Nieporęt 07-08.10.2017
DESCRIPTION:Mistrzostwa Warszawy; Nieporęt 07-08.10.2017 finał Pucharu Polski\, współczynnik 1.2 \n
URL:http://www.finnclass.pl/event/mistrzostwa-warszawy-nieporet-07-08-10-2017/
END:VEVENT
END:VCALENDAR