BEGIN:VCALENDAR
VERSION:2.0
PRODID:-//Polskie Stowarzyszenie Regatowe klasy Finn - ECPv4.9.11//NONSGML v1.0//EN
CALSCALE:GREGORIAN
METHOD:PUBLISH
X-WR-CALNAME:Polskie Stowarzyszenie Regatowe klasy Finn
X-ORIGINAL-URL:http://www.finnclass.pl
X-WR-CALDESC:Events for Polskie Stowarzyszenie Regatowe klasy Finn
BEGIN:VTIMEZONE
TZID:Europe/Warsaw
BEGIN:DAYLIGHT
TZOFFSETFROM:+0100
TZOFFSETTO:+0200
TZNAME:CEST
DTSTART:20150329T010000
END:DAYLIGHT
BEGIN:STANDARD
TZOFFSETFROM:+0200
TZOFFSETTO:+0100
TZNAME:CET
DTSTART:20151025T010000
END:STANDARD
END:VTIMEZONE
BEGIN:VEVENT
DTSTART;TZID=Europe/Warsaw:20151017T080000
DTEND;TZID=Europe/Warsaw:20151018T150000
DTSTAMP:20260421T044649
CREATED:20151007T115602Z
LAST-MODIFIED:20151007T115624Z
UID:523-1445068800-1445180400@www.finnclass.pl
SUMMARY:Mistrzostwa Warszawy - Memoriał Macieja Szosta 17-18.10.2015
DESCRIPTION:Zawiadomienie o ostatnich regatach liczonych do klasyfikacjia Pucharu Polski 2015:\nhttp://www.ksspojnia.pl/…/Zawiadomienie-Mistrzostwa-Warszaw…\nZgłoszenia należy wysłać na maila do dnia 13.10.2015:\njerzy@jjodlowski.pl\nDruk zgłoszeniowy:\nhttp://www.ksspojnia.pl/…/uploads/2015/10/zgloszenie_zbioro… \n\n \n
URL:http://www.finnclass.pl/event/mistrzostwa-warszawy/
LOCATION:KS Spójnia Warszawa\, ul. Wojska Polskiego 3\, Nieporęt\, mazowieckie\, 05-126\, Polska
ATTACH;FMTTYPE=image/png:http://www.finnclass.pl/wp-content/uploads/2015/10/logo.png
END:VEVENT
END:VCALENDAR