BEGIN:VCALENDAR
VERSION:2.0
PRODID:-//Polskie Stowarzyszenie Regatowe klasy Finn - ECPv4.9.11//NONSGML v1.0//EN
CALSCALE:GREGORIAN
METHOD:PUBLISH
X-WR-CALNAME:Polskie Stowarzyszenie Regatowe klasy Finn
X-ORIGINAL-URL:http://www.finnclass.pl
X-WR-CALDESC:Events for Polskie Stowarzyszenie Regatowe klasy Finn
BEGIN:VTIMEZONE
TZID:Europe/Warsaw
BEGIN:DAYLIGHT
TZOFFSETFROM:+0100
TZOFFSETTO:+0200
TZNAME:CEST
DTSTART:20160327T010000
END:DAYLIGHT
BEGIN:STANDARD
TZOFFSETFROM:+0200
TZOFFSETTO:+0100
TZNAME:CET
DTSTART:20161030T010000
END:STANDARD
END:VTIMEZONE
BEGIN:VEVENT
DTSTART;TZID=Europe/Warsaw:20160402T080000
DTEND;TZID=Europe/Warsaw:20160403T170000
DTSTAMP:20260420T222902
CREATED:20160304T140111Z
LAST-MODIFIED:20160304T140111Z
UID:804-1459584000-1459702800@www.finnclass.pl
SUMMARY:Nieoficjalne Regaty Otwarcia Sezonu o Puchar Marina Club
DESCRIPTION: \n
URL:http://www.finnclass.pl/event/nieoficjalne-regaty-otwarcia-sezonu-o-puchar-marina-club/
LOCATION:Dobra Marina\, Małej Syrenki 2\, Szczecin\, Zachodniopomorskie\, 71-790\, Polska
END:VEVENT
END:VCALENDAR