BEGIN:VCALENDAR
VERSION:2.0
PRODID:-//Polskie Stowarzyszenie Regatowe klasy Finn - ECPv4.9.11//NONSGML v1.0//EN
CALSCALE:GREGORIAN
METHOD:PUBLISH
X-WR-CALNAME:Polskie Stowarzyszenie Regatowe klasy Finn
X-ORIGINAL-URL:http://www.finnclass.pl
X-WR-CALDESC:Events for Polskie Stowarzyszenie Regatowe klasy Finn
BEGIN:VTIMEZONE
TZID:Europe/Warsaw
BEGIN:DAYLIGHT
TZOFFSETFROM:+0100
TZOFFSETTO:+0200
TZNAME:CEST
DTSTART:20170326T010000
END:DAYLIGHT
BEGIN:STANDARD
TZOFFSETFROM:+0200
TZOFFSETTO:+0100
TZNAME:CET
DTSTART:20171029T010000
END:STANDARD
END:VTIMEZONE
BEGIN:VEVENT
DTSTART;TZID=Europe/Warsaw:20170605T080000
DTEND;TZID=Europe/Warsaw:20170609T170000
DTSTAMP:20260420T022320
CREATED:20161226T111717Z
LAST-MODIFIED:20161226T111717Z
UID:1499-1496649600-1497027600@www.finnclass.pl
SUMMARY:Puchar Europy Masters
DESCRIPTION:Puchar Europy Masters\, Balaton – Tihany\, Węgry\, 5-9.06.2017 \n
URL:http://www.finnclass.pl/event/puchar-europy-masters/
LOCATION:Tihany\, Węgry
END:VEVENT
END:VCALENDAR