BEGIN:VCALENDAR
VERSION:2.0
PRODID:-//Polskie Stowarzyszenie Regatowe klasy Finn - ECPv4.9.11//NONSGML v1.0//EN
CALSCALE:GREGORIAN
METHOD:PUBLISH
X-WR-CALNAME:Polskie Stowarzyszenie Regatowe klasy Finn
X-ORIGINAL-URL:http://www.finnclass.pl
X-WR-CALDESC:Events for Polskie Stowarzyszenie Regatowe klasy Finn
BEGIN:VTIMEZONE
TZID:Europe/Warsaw
BEGIN:DAYLIGHT
TZOFFSETFROM:+0100
TZOFFSETTO:+0200
TZNAME:CEST
DTSTART:20180325T010000
END:DAYLIGHT
BEGIN:STANDARD
TZOFFSETFROM:+0200
TZOFFSETTO:+0100
TZNAME:CET
DTSTART:20181028T010000
END:STANDARD
END:VTIMEZONE
BEGIN:VEVENT
DTSTART;TZID=Europe/Warsaw:20180706T080000
DTEND;TZID=Europe/Warsaw:20180708T170000
DTSTAMP:20260419T232058
CREATED:20180301T204119Z
LAST-MODIFIED:20180301T204119Z
UID:2587-1530864000-1531069200@www.finnclass.pl
SUMMARY:Puchar Prezydenta Miasta Gdyni - Gdynia
DESCRIPTION:
URL:http://www.finnclass.pl/event/puchar-prezydenta-miasta-gdyni-gdynia/
END:VEVENT
END:VCALENDAR