BEGIN:VCALENDAR
VERSION:2.0
PRODID:-//Polskie Stowarzyszenie Regatowe klasy Finn - ECPv4.9.11//NONSGML v1.0//EN
CALSCALE:GREGORIAN
METHOD:PUBLISH
X-WR-CALNAME:Polskie Stowarzyszenie Regatowe klasy Finn
X-ORIGINAL-URL:http://www.finnclass.pl
X-WR-CALDESC:Events for Polskie Stowarzyszenie Regatowe klasy Finn
BEGIN:VTIMEZONE
TZID:Europe/Warsaw
BEGIN:DAYLIGHT
TZOFFSETFROM:+0100
TZOFFSETTO:+0200
TZNAME:CEST
DTSTART:20160327T010000
END:DAYLIGHT
BEGIN:STANDARD
TZOFFSETFROM:+0200
TZOFFSETTO:+0100
TZNAME:CET
DTSTART:20161030T010000
END:STANDARD
END:VTIMEZONE
BEGIN:VEVENT
DTSTART;TZID=Europe/Warsaw:20160409T080000
DTEND;TZID=Europe/Warsaw:20160410T170000
DTSTAMP:20260420T205935
CREATED:20160304T140734Z
LAST-MODIFIED:20160304T140734Z
UID:808-1460188800-1460307600@www.finnclass.pl
SUMMARY:Puchar Rybnika
DESCRIPTION: \nZawiadomienie o regatach:\nzawiadomienieRRZ2016 \n
URL:http://www.finnclass.pl/event/puchar-rybnika/
LOCATION:TS Kuźnia Rybnik\, ul. Pod­miej­ska 1\, Rybnik\, 44-207
END:VEVENT
END:VCALENDAR