BEGIN:VCALENDAR
VERSION:2.0
PRODID:-//Polskie Stowarzyszenie Regatowe klasy Finn - ECPv4.9.11//NONSGML v1.0//EN
CALSCALE:GREGORIAN
METHOD:PUBLISH
X-WR-CALNAME:Polskie Stowarzyszenie Regatowe klasy Finn
X-ORIGINAL-URL:http://www.finnclass.pl
X-WR-CALDESC:Events for Polskie Stowarzyszenie Regatowe klasy Finn
BEGIN:VTIMEZONE
TZID:Europe/Warsaw
BEGIN:DAYLIGHT
TZOFFSETFROM:+0100
TZOFFSETTO:+0200
TZNAME:CEST
DTSTART:20170326T010000
END:DAYLIGHT
BEGIN:STANDARD
TZOFFSETFROM:+0200
TZOFFSETTO:+0100
TZNAME:CET
DTSTART:20171029T010000
END:STANDARD
END:VTIMEZONE
BEGIN:VEVENT
DTSTART;TZID=Europe/Warsaw:20170327T080000
DTEND;TZID=Europe/Warsaw:20170401T170000
DTSTAMP:20260420T004659
CREATED:20161226T111347Z
LAST-MODIFIED:20170107T205129Z
UID:1498-1490601600-1491066000@www.finnclass.pl
SUMMARY:Regaty Księżniczki Zofii
DESCRIPTION:Regaty Księżniczki Zofii\, Palma de Majorka\, 27.03.-01.04.2017 \n
URL:http://www.finnclass.pl/event/regaty-ksiezniczki-zofii/
END:VEVENT
END:VCALENDAR