BEGIN:VCALENDAR
VERSION:2.0
PRODID:-//Polskie Stowarzyszenie Regatowe klasy Finn - ECPv4.9.11//NONSGML v1.0//EN
CALSCALE:GREGORIAN
METHOD:PUBLISH
X-WR-CALNAME:Polskie Stowarzyszenie Regatowe klasy Finn
X-ORIGINAL-URL:http://www.finnclass.pl
X-WR-CALDESC:Events for Polskie Stowarzyszenie Regatowe klasy Finn
BEGIN:VTIMEZONE
TZID:Europe/Warsaw
BEGIN:DAYLIGHT
TZOFFSETFROM:+0100
TZOFFSETTO:+0200
TZNAME:CEST
DTSTART:20230326T010000
END:DAYLIGHT
BEGIN:STANDARD
TZOFFSETFROM:+0200
TZOFFSETTO:+0100
TZNAME:CET
DTSTART:20231029T010000
END:STANDARD
END:VTIMEZONE
BEGIN:VEVENT
DTSTART;VALUE=DATE:20230214
DTEND;VALUE=DATE:20230218
DTSTAMP:20260419T131339
CREATED:20221123T145125Z
LAST-MODIFIED:20221123T145125Z
UID:5734-1676332800-1676678399@www.finnclass.pl
SUMMARY:Semaine Internationale de Cannes
DESCRIPTION:
URL:http://www.finnclass.pl/event/semaine-internationale-de-cannes/
LOCATION:Cannes\, Francja
END:VEVENT
END:VCALENDAR