BEGIN:VCALENDAR
VERSION:2.0
PRODID:-//Polskie Stowarzyszenie Regatowe klasy Finn - ECPv4.9.11//NONSGML v1.0//EN
CALSCALE:GREGORIAN
METHOD:PUBLISH
X-WR-CALNAME:Polskie Stowarzyszenie Regatowe klasy Finn
X-ORIGINAL-URL:http://www.finnclass.pl
X-WR-CALDESC:Events for Polskie Stowarzyszenie Regatowe klasy Finn
BEGIN:VTIMEZONE
TZID:Europe/Warsaw
BEGIN:DAYLIGHT
TZOFFSETFROM:+0100
TZOFFSETTO:+0200
TZNAME:CEST
DTSTART:20150329T010000
END:DAYLIGHT
BEGIN:STANDARD
TZOFFSETFROM:+0200
TZOFFSETTO:+0100
TZNAME:CET
DTSTART:20151025T010000
END:STANDARD
END:VTIMEZONE
BEGIN:VEVENT
DTSTART;TZID=Europe/Warsaw:20151018T160000
DTEND;TZID=Europe/Warsaw:20151018T170000
DTSTAMP:20260421T031322
CREATED:20151007T120434Z
LAST-MODIFIED:20151007T120746Z
UID:529-1445184000-1445187600@www.finnclass.pl
SUMMARY:Zakończenie sezonu - podsumowanie Pucharu Polski 2015
DESCRIPTION:Podczas zakonczenia ostatnich regat sezonu – Mistrzostw Warszawy 2015 \n\n \n
URL:http://www.finnclass.pl/event/zakonczenie-sezonu-podsumowanie-pucharu-polski-2015/
LOCATION:KS Spójnia Warszawa\, ul. Wojska Polskiego 3\, Nieporęt\, mazowieckie\, 05-126\, Polska
ATTACH;FMTTYPE=image/jpeg:http://www.finnclass.pl/wp-content/uploads/2015/01/PPFinn_m.jpg
END:VEVENT
END:VCALENDAR