BEGIN:VCALENDAR
VERSION:2.0
PRODID:-//Polskie Stowarzyszenie Regatowe klasy Finn - ECPv4.9.11//NONSGML v1.0//EN
CALSCALE:GREGORIAN
METHOD:PUBLISH
X-WR-CALNAME:Polskie Stowarzyszenie Regatowe klasy Finn
X-ORIGINAL-URL:http://www.finnclass.pl
X-WR-CALDESC:Events for Polskie Stowarzyszenie Regatowe klasy Finn
BEGIN:VTIMEZONE
TZID:Europe/Warsaw
BEGIN:DAYLIGHT
TZOFFSETFROM:+0100
TZOFFSETTO:+0200
TZNAME:CEST
DTSTART:20160327T010000
END:DAYLIGHT
BEGIN:STANDARD
TZOFFSETFROM:+0200
TZOFFSETTO:+0100
TZNAME:CET
DTSTART:20161030T010000
END:STANDARD
END:VTIMEZONE
BEGIN:VEVENT
DTSTART;TZID=Europe/Warsaw:20160904T080000
DTEND;TZID=Europe/Warsaw:20160911T170000
DTSTAMP:20260420T060333
CREATED:20160830T084851Z
LAST-MODIFIED:20160830T084851Z
UID:1166-1472976000-1473613200@www.finnclass.pl
SUMMARY:Zgrupowanie PZŻ Finn Górki Zachodnie
DESCRIPTION:W dniach 4-11 września odbędzie się zgrupowanie kadry PZŻ oraz Akademii PZŻ w Górkach Zachodnich. \n
URL:http://www.finnclass.pl/event/zgrupowanie-pzz-finn-gorki-zachodnie/
END:VEVENT
END:VCALENDAR