BEGIN:VCALENDAR
VERSION:2.0
PRODID:-//Polskie Stowarzyszenie Regatowe klasy Finn - ECPv4.9.11//NONSGML v1.0//EN
CALSCALE:GREGORIAN
METHOD:PUBLISH
X-WR-CALNAME:Polskie Stowarzyszenie Regatowe klasy Finn
X-ORIGINAL-URL:https://www.finnclass.pl
X-WR-CALDESC:Events for Polskie Stowarzyszenie Regatowe klasy Finn
BEGIN:VTIMEZONE
TZID:Europe/Warsaw
BEGIN:DAYLIGHT
TZOFFSETFROM:+0100
TZOFFSETTO:+0200
TZNAME:CEST
DTSTART:20240331T010000
END:DAYLIGHT
BEGIN:STANDARD
TZOFFSETFROM:+0200
TZOFFSETTO:+0100
TZNAME:CET
DTSTART:20241027T010000
END:STANDARD
END:VTIMEZONE
BEGIN:VEVENT
DTSTART;VALUE=DATE:20240213
DTEND;VALUE=DATE:20240217
DTSTAMP:20260420T113715
CREATED:20240202T203817Z
LAST-MODIFIED:20240202T203817Z
UID:6630-1707782400-1708127999@www.finnclass.pl
SUMMARY:Semaine Internationale de Cannes
DESCRIPTION:
URL:https://www.finnclass.pl/event/semaine-internationale-de-cannes-2024/
LOCATION:Cannes\, Francja
CATEGORIES:World Tour
END:VEVENT
END:VCALENDAR